Workbook

Sheet Tarieven 2026 nieuwe inkoop
B2: Productcodetabel Midden-IJssel/Oost-Veluwe
B3: Versie: 21-09-2026
B4: Producten WMO/MO-BW inkoop 2026
B6: Productnaam | C6: Tarief voorgesteld Wmo prijspeil 2025 | D6: Tarief Definitief Wmo prijspeil 2025 | E6: Tarief Definitief Wmo prijspeil 2026 | F6: Tarief 2027 | G6: Eenheid bij declaratie | H6: Eenheid bij toewijzing | I6: Frequentie | J6: Opmerking | K6: Productcode iWmo - Wmo | L6: Productcode voor doelgroep 16-17 jarigen | M6: Productcode iWmo - BW
B7: Huishoudelijke hulp: Schoon huis | C7: 39.008682 | D7: 39.008682 | E7: 41.01 | F7: 42.48 | G7: minuut | H7: uur | I7: Totaal binnen de geldigheid van de toewijzing | K7: 01001
B8: Huishoudelijke hulp: Regie op gestructureerd huishouden | C8: 40.266356 | D8: 40.266356 | E8: 42.33 | F8: 43.85 | G8: minuut | H8: uur | I8: Totaal binnen de geldigheid van de toewijzing | K8: 01002
B9: Begeleiding Individueel Licht | C9: 71.871572 | D9: 71.871572 | E9: 75.56 | F9: 78.27 | G9: minuut | H9: uur | I9: Totaal binnen de geldigheid van de toewijzing | K9: 02A22
B10: Begeleiding Individueel Basis | C10: 85.740313 | D10: 85.740313 | E10: 90.14 | F10: 93.37 | G10: minuut | H10: uur | I10: Totaal binnen de geldigheid van de toewijzing | K10: 02A16
B11: Begeleiding Individueel Complex | C11: 97.944003 | D11: 97.944003 | E11: 102.97 | F11: 106.67 | G11: minuut | H11: uur | I11: Totaal binnen de geldigheid van de toewijzing | K11: 02A19
B12: Begeleiding Groep Licht | C12: 10.091097 | D12: 10.091097 | E12: 10.61 | F12: 10.99 | G12: minuut | H12: uur | I12: Totaal binnen de geldigheid van de toewijzing | K12: 07A11 | M12: 15G01
B13: Begeleiding Groep Basis | C13: 13.179745 | D13: 13.179745 | E13: 13.86 | F13: 14.35 | G13: minuut | H13: uur | I13: Totaal binnen de geldigheid van de toewijzing | K13: 07A12 | M13: 15G02
B14: Begeleiding Groep Complex | C14: 20.960358 | D14: 20.960358 | E14: 22.04 | F14: 22.83 | G14: minuut | H14: uur | I14: Totaal binnen de geldigheid van de toewijzing | K14: 07A13 | M14: 15G03
B15: Begeleiding Groep Duurzaam | C15: 12.321124 | D15: 12.321124 | E15: 12.95 | F15: 13.42 | G15: minuut | H15: uur | I15: Totaal binnen de geldigheid van de toewijzing | K15: 07A14
B16: Begeleiding Groep Duurzaam Intensief | C16: 15.896017 | D16: 15.896017 | E16: 16.71 | F16: 17.31 | G16: minuut | H16: uur | I16: Totaal binnen de geldigheid van de toewijzing | K16: 07A16
B17: Werkt mee op trede 3 | C17: 10.489625 | D17: 10.489625 | E17: 11.03 | F17: 11.42 | G17: minuut | H17: uur | I17: Totaal binnen de geldigheid van de toewijzing | K17: 02A63 | L17: 02J63 | M17: 15A63
B18: Werkt mee op trede 4 | C18: 7.9202278 | D18: 7.9202278 | E18: 8.33 | F18: 8.63 | G18: minuut | H18: uur | I18: Totaal binnen de geldigheid van de toewijzing | K18: 02A64 | L18: 02J64 | M18: 15A64
B19: Werkt mee ontwikkeling naar trede 3 | C19: 354.89678 | D19: 354.89678 | E19: 373.1 | F19: 386.5 | G19: stuk (o) | H19: stuk (o) | I19: Totaal binnen de geldigheid van de toewijzing | K19: 02A56 | L19: 02J56 | M19: 15A56
B20: Werkt mee ontwikkeling naar trede 4 | C20: 354.89678 | D20: 354.89678 | E20: 373.1 | F20: 386.5 | G20: stuk (o) | H20: stuk (o) | I20: Totaal binnen de geldigheid van de toewijzing | K20: 02A57 | L20: 02J57 | M20: 15A57
B21: Werkt mee ontwikkeling naar trede 5 | C21: 354.89678 | D21: 354.89678 | E21: 373.1 | F21: 386.5 | G21: stuk (o) | H21: stuk (o) | I21: Totaal binnen de geldigheid van de toewijzing | K21: 02A58 | L21: 02J58 | M21: 15A58
B22: Persoonlijke verzorging | C22: 42.013668 | D22: 42.013668 | E22: 44.17 | F22: 45.75 | G22: minuut | H22: uur | I22: Totaal binnen de geldigheid van de toewijzing | K22: 03A11
B23: Zorgcoördinatie | C23: 90.37583 | D23: 90.37583 | E23: 95.01 | F23: 98.42 | G23: stuk (o) | H23: stuk (o) | I23: Totaal binnen de geldigheid van de toewijzing | K23: 02A76
B24: Respijtopvang Thuis | C24: 272.42677 | D24: 272.42677 | E24: 286.4 | F24: 296.68 | G24: etmaal | H24: etmaal | I24: Totaal binnen de geldigheid van de toewijzing | K24: 04W01
B25: Respijtopvang Basis | C25: 185.1501 | D25: 185.1501 | E25: 194.65 | F25: 201.64 | G25: etmaal | H25: etmaal | I25: Totaal binnen de geldigheid van de toewijzing | K25: 04W02
B26: Respijtopvang Hoog | C26: 246.61713 | D26: 246.61713 | E26: 259.27 | F26: 268.58 | G26: etmaal | H26: etmaal | I26: Totaal binnen de geldigheid van de toewijzing | K26: 04W03
B27: Vervoer | C27: 19.166536 | D27: 19.166536 | E27: 20.15 | F27: 20.87 | G27: etmaal | H27: etmaal | I27: Totaal binnen de geldigheid van de toewijzing | K27: 08A03
B28: Vervoer Plus | C28: 36.108756 | D28: 37.05461 | E28: 38.96 | F28: 40.35 | G28: etmaal | H28: etmaal | I28: Totaal binnen de geldigheid van de toewijzing | K28: 08A04

Sheet was-wordt lijst
A1: Productcode | B1: Productgroep | C1: Productomschrijving | D1: Wet | E1: Eenheid | F1: Tarief 2024 | G1: Basis prijspeil | H1: Tarief 2025 | I1: Tarief nieuwe inkoop 2026 | J1: Tarief 2027
A2: 01001 | B2: Hulp bij Huishouden | C2: Schoon huis | D2: Wmo | E2: Uur | F2: 37.53 | G2: =VLOOKUP(A2,'Was-wordt tarieven'!A:M,13,FALSE) -> 37.53 | H2: 39.01 | I2: 41.01 | J2: =ROUND(G2*1.0394*1.0513*1.0359,2) -> 42.48
A3: 01002 | B3: Hulp bij Huishouden | C3: Regie gestructureerd hh | D3: Wmo | E3: Uur | F3: 38.74 | G3: =VLOOKUP(A3,'Was-wordt tarieven'!A:M,13,FALSE) -> 38.74 | H3: 40.27 | I3: 42.33 | J3: =ROUND(G3*1.0394*1.0513*1.0359,2) -> 43.85
A4: 03A11 | B4: Persoonlijke verzorging | C4: Persoonlijke verzorging | D4: Wmo | E4: Uur | F4: 35.97 | G4: =VLOOKUP(A4,'Was-wordt tarieven'!A:M,13,FALSE) -> 40.421077 | H4: 42.01 | I4: 44.17 | J4: =ROUND(G4*1.0394*1.0513*1.0359,2) -> 45.75
A5: 02A22 | B5: Begeleiding individueel | C5: Begeleiding individueel Licht | D5: Wmo | E5: Uur | F5: 63.11 | G5: =VLOOKUP(A5,'Was-wordt tarieven'!A:M,13,FALSE) -> 69.147174 | H5: 74.3 | I5: 75.56 | J5: =ROUND(G5*1.0394*1.0513*1.0359,2) -> 78.27
A6: 02A16 | B6: Begeleiding individueel | C6: Begeleiding individueel Basis | D6: Wmo | E6: Uur | F6: 74.86 | G6: =VLOOKUP(A6,'Was-wordt tarieven'!A:M,13,FALSE) -> 82.4902 | H6: 87.3 | I6: 90.14 | J6: =ROUND(G6*1.0394*1.0513*1.0359,2) -> 93.37
A7: 02A19 | B7: Begeleiding individueel | C7: Begeleiding individueel Complex | D7: Wmo | E7: Uur | F7: 86.95 | G7: =VLOOKUP(A7,'Was-wordt tarieven'!A:M,13,FALSE) -> 94.23129 | H7: 102.75 | I7: 102.97 | J7: =ROUND(G7*1.0394*1.0513*1.0359,2) -> 106.67
A8: 07A11 | B8: Begeleiding Groep | C8: Begeleiding Groep Licht | D8: Wmo | E8: Uur | F8: 10.63 | G8: =VLOOKUP(A8,'Was-wordt tarieven'!A:M,13,FALSE) -> 9.7085791 | H8: 11.05 | I8: 10.61 | J8: =ROUND(G8*1.0394*1.0513*1.0359,2) -> 10.99
A9: 07A12 | B9: Begeleiding Groep | C9: Begeleiding Groep Basis | D9: Wmo | E9: Uur | F9: 14.14 | G9: =VLOOKUP(A9,'Was-wordt tarieven'!A:M,13,FALSE) -> 12.680147 | H9: 14.7 | I9: 13.86 | J9: =ROUND(G9*1.0394*1.0513*1.0359,2) -> 14.35
A10: 07A13 | B10: Begeleiding Groep | C10: Begeleiding Groep Complex | D10: Wmo | E10: Uur | F10: 21.38 | G10: =VLOOKUP(A10,'Was-wordt tarieven'!A:M,13,FALSE) -> 20.165824 | H10: 22.22 | I10: 22.04 | J10: =ROUND(G10*1.0394*1.0513*1.0359,2) -> 22.83
A11: 07A14 | B11: Begeleiding Groep | C11: Begeleiding Groep Duurzaam | D11: Wmo | E11: Uur | F11: 13.53 | G11: =VLOOKUP(A11,'Was-wordt tarieven'!A:M,13,FALSE) -> 11.854074 | H11: 14.06 | I11: 12.95 | J11: =ROUND(G11*1.0394*1.0513*1.0359,2) -> 13.42
A12: 07A16 | B12: Begeleiding Groep | C12: Begeleiding Groep Duurzaam Intensief | D12: Wmo | E12: Uur | F12: 16.34 | G12: =VLOOKUP(A12,'Was-wordt tarieven'!A:M,13,FALSE) -> 15.293455 | H12: 16.98 | I12: 16.71 | J12: =ROUND(G12*1.0394*1.0513*1.0359,2) -> 17.31
A13: 04W01 | B13: Respijtzorg | C13: Respijtzorg Thuis | D13: Wmo | E13: Etmaal | F13: 197.79 | G13: =VLOOKUP(A13,'Was-wordt tarieven'!A:M,13,FALSE) -> 262.10003 | H13: 272.43 | I13: 286.4 | J13: =ROUND(G13*1.0394*1.0513*1.0359,2) -> 296.68
... A23: 02A76 | B23: Zorgcoördinatie | C23: Zorgcoördinatie | D23: Wmo | E23: Uur | F23: 86.95 | G23: =VLOOKUP(A23,'Was-wordt tarieven'!A:M,13,FALSE) -> 86.95 | H23: 90.38 | I23: 95.01 | J23: =ROUND(G23*1.0394*1.0513*1.0359,2) -> 98.42
A24: 02J63 | B24: Werkt Mee | C24: Werkt Mee op trede 3 16/17 jaar | D24: Wmo | E24: Uur | G24: =VLOOKUP(A24,'Was-wordt tarieven'!A:M,13,FALSE) -> 10.092 | H24: 11.05 | I24: 11.03 | J24: =ROUND(G24*1.0394*1.0513*1.0359,2) -> 11.42
A25: 02J64 | B25: Werkt Mee | C25: Werkt Mee op trede 4 16/17 jaar | D25: Wmo | E25: Uur | G25: =VLOOKUP(A25,'Was-wordt tarieven'!A:M,13,FALSE) -> 7.6199999 | H25: 8.17 | I25: 8.33 | J25: =ROUND(G25*1.0394*1.0513*1.0359,2) -> 8.63
A26: 02J56 | B26: Werkt Mee | C26: Werkt Mee ontwikkeling naar trede 3 16/17 | D26: Wmo | E26: Stuks (o) | G26: =VLOOKUP(A26,'Was-wordt tarieven'!A:M,13,FALSE) -> 341.44389 | H26: 354.9 | I26: 373.1 | J26: =ROUND(G26*1.0394*1.0513*1.0359,2) -> 386.5
A27: 02J57 | B27: Werkt Mee | C27: Werkt Mee ontwikkeling naar trede 4 16/17 | D27: Wmo | E27: Stuks (o) | G27: =VLOOKUP(A27,'Was-wordt tarieven'!A:M,13,FALSE) -> 341.44389 | H27: 354.9 | I27: 373.1 | J27: =ROUND(G27*1.0394*1.0513*1.0359,2) -> 386.5
A28: 02J58 | B28: Werkt Mee | C28: Werkt Mee ontwikkeling naar trede 5 16/17 | D28: Wmo | E28: Stuks (o) | G28: =VLOOKUP(A28,'Was-wordt tarieven'!A:M,13,FALSE) -> 341.44389 | H28: 354.9 | I28: 373.1 | J28: =ROUND(G28*1.0394*1.0513*1.0359,2) -> 386.5
A29: 15G01 | B29: Beschermd Wonen | C29: Begeleiding Groep Licht BW | D29: BW | E29: Uur | F29: 10.63 | G29: =VLOOKUP(A29,'Was-wordt tarieven'!A:M,13,FALSE) -> 9.7085791 | H29: 11.05 | I29: 10.61 | J29: =ROUND(G29*1.0394*1.0513*1.0359,2) -> 10.99
A30: 15G02 | B30: Beschermd Wonen | C30: Begeleiding Groep Basis BW | D30: BW | E30: Uur | F30: 14.14 | G30: =VLOOKUP(A30,'Was-wordt tarieven'!A:M,13,FALSE) -> 12.680147 | H30: 14.7 | I30: 13.86 | J30: =ROUND(G30*1.0394*1.0513*1.0359,2) -> 14.35
A31: 15G03 | B31: Beschermd Wonen | C31: Begeleiding Groep Complex BW | D31: BW | E31: Uur | F31: 21.38 | G31: =VLOOKUP(A31,'Was-wordt tarieven'!A:M,13,FALSE) -> 20.165824 | H31: 22.22 | I31: 22.04 | J31: =ROUND(G31*1.0394*1.0513*1.0359,2) -> 22.83
A32: 15A63 | B32: Werkt Mee BW | C32: Werkt mee op trede 3 BW | D32: Wmo | E32: Uur | F32: 10.63 | G32: =VLOOKUP(A32,'Was-wordt tarieven'!A:M,13,FALSE) -> 10.092 | H32: 11.05 | I32: 11.03 | J32: =ROUND(G32*1.0394*1.0513*1.0359,2) -> 11.42
A33: 15A64 | B33: Werkt Mee BW | C33: Werkt mee op trede 4 BW | D33: Wmo | E33: Uur | F33: 7.86 | G33: =VLOOKUP(A33,'Was-wordt tarieven'!A:M,13,FALSE) -> 7.6199999 | H33: 8.17 | I33: 8.33 | J33: =ROUND(G33*1.0394*1.0513*1.0359,2) -> 8.63
A34: 15A56 | B34: Werkt Mee BW | C34: Werkt mee ontwikkeling naar trede 3 BW | D34: Wmo | E34: Stuks (o) | F34: 319.04 | G34: =VLOOKUP(A34,'Was-wordt tarieven'!A:M,13,FALSE) -> 341.44389 | H34: 354.9 | I34: 373.1 | J34: =ROUND(G34*1.0394*1.0513*1.0359,2) -> 386.5
A35: 15A57 | B35: Werkt Mee BW | C35: Werkt mee ontwikkeling naar trede 4 BW | D35: Wmo | E35: Stuks (o) | F35: 319.04 | G35: =VLOOKUP(A35,'Was-wordt tarieven'!A:M,13,FALSE) -> 341.44389 | H35: 354.9 | I35: 373.1 | J35: =ROUND(G35*1.0394*1.0513*1.0359,2) -> 386.5
A36: 15A58 | B36: Werkt Mee BW | C36: Werkt mee ontwikkeling naar trede 5 BW | D36: Wmo | E36: Stuks (o) | F36: 319.04 | G36: =VLOOKUP(A36,'Was-wordt tarieven'!A:M,13,FALSE) -> 341.44389 | H36: 354.9 | I36: 373.1 | J36: =ROUND(G36*1.0394*1.0513*1.0359,2) -> 386.5

Sheet Was-wordt tarieven
A1: Productcode | B1: Productgroep | C1: Productomschrijving | D1: Wet | E1: Tarief 2024 | F1: Tarief voorstel HHM prijspeil 2024 | G1: Tarief voorstel HHM prijspeil 2024 | H1: Tarief met aangepaste groepsgrootte pp 2024 | I1: Tarief CAO-mix aangepast | J1: Tarief Functiemix laag | K1: Tarief Functiemix hoog | L1: Advies HHM aangepast | M1: Voorgestelde tarieven | N1: Advies HHM tekstueel | O1: Tarief oude overeenkomst prijspeil 2025 | P1: Tarief 2025 | Q1: Tarief nieuwe inkoop pp 2025 | R1: Voorgestelde tarieven | S1: Tarief met aangepaste groepsgrootte pp 2025 | T1: Verschil voorgestelde tarieven vs 'oude overeenkomst' | U1: Verschil tarief nieuwe inkoop vs huidige inkoop | V1: Verschil met aangepaste groepsgrootte | W1: Aangepast advies HHM | X1: Verschil voorgesteld tov huidig | Y1: Extra verschil tov ongewijzigd | Z1: Verschil voorgesteld tov advies | AA1: Verschil 2025 advies HHM | AB1: Verschil voorgesteld en Advies HHM | AC1: Definitieve tarieven 2025 | AD1: Definitieve tarieven Prijspeil 2026
A2: 01001 | B2: Hulp bij Huishouden | C2: Schoon huis | D2: Wmo | E2: 37.53 | F2: 37.53 | G2: 37.53 | M2: 37.53 | O2: =E2*1.0394 -> 39.008682 | P2: 39.01 | Q2: =G2*1.0394 -> 39.008682 | R2: =Q2 -> 39.008682 | T2: =(R2-O2)/O2 -> 0 | U2: =(Q2-P2)/P2 -> -3.3786209e-05 | W2: =R2 -> 39.008682 | X2: =(R2-P2)/P2 -> -3.3786209e-05 | Y2: =(R2-Q2)/Q2 -> 0 | AA2: =(W2-P2)/P2 -> -3.3786209e-05 | AB2: =(W2-R2)/R2 -> 0 | AC2: =R2 -> 39.008682 | AD2: =ROUND(AC2*1.0513,2) -> 41.01
A3: 01002 | B3: Hulp bij Huishouden | C3: Regie gestructureerd hh | D3: Wmo | E3: 38.74 | F3: 38.74 | G3: 38.74 | M3: 38.74 | O3: =E3*1.0394 -> 40.266356 | P3: 40.27 | Q3: =G3*1.0394 -> 40.266356 | R3: =Q3 -> 40.266356 | T3: =(R3-O3)/O3 -> 0 | U3: =(Q3-P3)/P3 -> -9.0489198e-05 | W3: =R3 -> 40.266356 | X3: =(R3-P3)/P3 -> -9.0489198e-05 | Y3: =(R3-Q3)/Q3 -> 0 | AA3: =(W3-P3)/P3 -> -9.0489198e-05 | AB3: =(W3-R3)/R3 -> 0 | AC3: =R3 -> 40.266356 | AD3: =ROUND(AC3*1.0513,2) -> 42.33
A4: 03A11 | B4: Persoonlijke verzorging | C4: Persoonlijke verzorging | D4: Wmo | E4: 35.97 | F4: 40.421077 | G4: 40.421077 | M4: 40.421077 | O4: =E4*1.0394 -> 37.387218 | P4: 42.01 | Q4: =G4*1.0394 -> 42.013668 | R4: =Q4 -> 42.013668 | T4: =(R4-O4)/O4 -> 0.12374416 | U4: =(Q4-P4)/P4 -> 8.7307702e-05 | W4: =R4 -> 42.013668 | X4: =(R4-P4)/P4 -> 8.7307702e-05 | Y4: =(R4-Q4)/Q4 -> 0 | AA4: =(W4-P4)/P4 -> 8.7307702e-05 | AB4: =(W4-R4)/R4 -> 0 | AC4: =R4 -> 42.013668 | AD4: =ROUND(AC4*1.0513,2) -> 44.17
A5: 02A22 | B5: Begeleiding individueel | C5: Licht | D5: Wmo | E5: 63.11 | F5: 71.484253 | G5: 70.572156 | J5: 69.764672 | K5: 72.79336 | L5: 73.41785 | M5: 69.147174 | N5: Lager aandeel MBO3; hoger aandeel MBO4 opnemen 50% MBO3, 40% MBO4, 10% HBO | O5: =E5*1.0394 -> 65.596534 | P5: 74.3 | Q5: =G5*1.0394 -> 73.352699 | R5: =M5*1.0394 -> 71.871572 | T5: =(R5-O5)/O5 -> 0.095661128 | U5: =(Q5-P5)/P5 -> -0.012749676 | W5: =L5*1.0394 -> 76.310513 | X5: =(R5-P5)/P5 -> -0.032684086 | Y5: =(R5-Q5)/Q5 -> -0.020191849 | Z5: =(M5-G5)/G5 -> -0.020191849 | AA5: =(W5-P5)/P5 -> 0.027059397 | AB5: =(W5-R5)/R5 -> 0.061762121 | AC5: =R5 -> 71.871572 | AD5: =ROUND(AC5*1.0513,2) -> 75.56
A6: 02A16 | B6: Begeleiding individueel | C6: Basis | D6: Wmo | E6: 74.86 | F6: 83.987381 | G6: 82.888657 | J6: 77.033524 | K6: 81.475435 | L6: 82.4902 | M6: 82.4902 | N6: 90% MBO4, 10% HBO (is tarief Hoog) Geen aanpassing | O6: =E6*1.0394 -> 77.809484 | P6: 87.3 | Q6: =G6*1.0394 -> 86.15447 | R6: =M6*1.0394 -> 85.740313 | T6: =(R6-O6)/O6 -> 0.10192626 | U6: =(Q6-P6)/P6 -> -0.013121765 | W6: =L6*1.0394 -> 85.740313 | X6: =(R6-P6)/P6 -> -0.017865825 | Y6: =(R6-Q6)/Q6 -> -0.0048071375 | Z6: =(M6-G6)/G6 -> -0.0048071375 | AA6: =(W6-P6)/P6 -> -0.017865825 | AB6: =(W6-R6)/R6 -> 0 | AC6: =R6 -> 85.740313 | AD6: =ROUND(AC6*1.0513,2) -> 90.14
A7: 02A19 | B7: Begeleiding individueel | C7: Complex | D7: Wmo | E7: 86.95 | F7: 98.858927 | G7: 97.588189 | J7: 85.452224 | K7: 97.107664 | L7: 94.23129 | M7: 94.23129 | N7: Lager aandeel WO opnemen Geen aanpassing | O7: =E7*1.0394 -> 90.37583 | P7: 102.75 | Q7: =G7*1.0394 -> 101.43316 | R7: =M7*1.0394 -> 97.944003 | T7: =(R7-O7)/O7 -> 0.083741115 | U7: =(Q7-P7)/P7 -> -0.012815925 | W7: =L7*1.0394 -> 97.944003 | X7: =(R7-P7)/P7 -> -0.046773696 | Y7: =(R7-Q7)/Q7 -> -0.034398621 | Z7: =(M7-G7)/G7 -> -0.034398621 | AA7: =(W7-P7)/P7 -> -0.046773696 | AB7: =(W7-R7)/R7 -> 0 | AC7: =R7 -> 97.944003 | AD7: =ROUND(AC7*1.0513,2) -> 102.97
A8: 07A11 | B8: Begeleiding Groep | C8: Licht | D8: Wmo | E8: 10.63 | F8: 10.106589 | G8: 10.106589 | H8: 9.0054912 | J8: 9.5679288 | K8: 10.49645 | L8: 9.817341 | M8: 9.7085791 | N8: Lager aandeel MBO3; hoger aandeel MBO4 opnemen 40% MBO3, 30% MBO4, 30% HBO | O8: =E8*1.0394 -> 11.048822 | P8: 11.05 | Q8: =G8*1.0394 -> 10.504789 | R8: =M8*1.0394 -> 10.091097 | S8: =H8*1.0394 -> 9.3603076 | T8: =(R8-O8)/O8 -> -0.086681176 | U8: =(Q8-P8)/P8 -> -0.049340356 | V8: =(S8-P8)/P8 -> -0.15291334 | W8: =L8*1.0394 -> 10.204144 | X8: =(R8-P8)/P8 -> -0.086778541 | Y8: =(R8-Q8)/Q8 -> -0.039381272 | Z8: =(M8-G8)/G8 -> -0.039381272 | AA8: =(W8-P8)/P8 -> -0.076548033 | AB8: =(W8-R8)/R8 -> 0.011202658 | AC8: =R8 -> 10.091097 | AD8: =ROUND(AC8*1.0513,2) -> 10.61
A9: 07A12 | B9: Begeleiding Groep | C9: Basis | D9: Wmo | E9: 14.14 | F9: 13.721296 | G9: 13.603846 | H9: 12.340865 | J9: 12.397745 | K9: 12.946337 | L9: 12.680147 | M9: 12.680147 | N9: Lager aandeel HBO; hoger aandeel MBO4 opnemen 25% MBO3, 25% MBO4, 50% HBO | O9: =E9*1.0394 -> 14.697116 | P9: 14.7 | Q9: =G9*1.0394 -> 14.139837 | R9: =M9*1.0394 -> 13.179745 | S9: =H9*1.0394 -> 12.827095 | T9: =(R9-O9)/O9 -> -0.10324279 | U9: =(Q9-P9)/P9 -> -0.038106322 | V9: =(S9-P9)/P9 -> -0.12740851 | W9: =L9*1.0394 -> 13.179745 | X9: =(R9-P9)/P9 -> -0.10341872 | Y9: =(R9-Q9)/Q9 -> -0.067899812 | Z9: =(M9-G9)/G9 -> -0.067899812 | AA9: =(W9-P9)/P9 -> -0.10341872 | AB9: =(W9-R9)/R9 -> 0 | AC9: =R9 -> 13.179745 | AD9: =ROUND(AC9*1.0513,2) -> 13.86
A10: 07A13 | B10: Begeleiding Groep | C10: Complex | D10: Wmo | E10: 21.38 | F10: 21.246303 | G10: 21.246303 | H10: 19.471672 | J10: 17.340937 | K10: 20.40593 | L10: 19.871542 | M10: 20.165824 | N10: Lager aandeel HBO opnemen Geen aanpassing | O10: =E10*1.0394 -> 22.222372 | P10: 22.22 | Q10: =G10*1.0394 -> 22.083407 | R10: =M10*1.0394 -> 20.960358 | S10: =H10*1.0394 -> 20.238856 | T10: =(R10-O10)/O10 -> -0.056790264 | U10: =(Q10-P10)/P10 -> -0.0061472995 | V10: =(S10-P10)/P10 -> -0.089160382 | W10: =L10*1.0394 -> 20.65448 | X10: =(R10-P10)/P10 -> -0.056689576 | Y10: =(R10-Q10)/Q10 -> -0.050854897 | Z10: =(M10-G10)/G10 -> -0.050854897 | AA10: =(W10-P10)/P10 -> -0.070455428 | AB10: =(W10-R10)/R10 -> -0.01459313 | AC10: =R10 -> 20.960358 | AD10: =ROUND(AC10*1.0513,2) -> 22.04
A11: 07A14 | B11: Begeleiding Groep | C11: Duurzaam | D11: Wmo | E11: 13.53 | F11: 11.93093 | G11: 11.93093 | H11: 9.4016513 | J11: 12.244895 | K11: 13.494928 | L11: 12.189423 | M11: 11.854074 | N11: Aandeel MBO2 verdelen over MBO3 en MBO4 20% MBO2, 50% MBO3, 27,5% MBO4, 2,5% HBO | O11: =E11*1.0394 -> 14.063082 | P11: 14.06 | Q11: =G11*1.0394 -> 12.401009 | R11: =M11*1.0394 -> 12.321124 | S11: =H11*1.0394 -> 9.7720764 | T11: =(R11-O11)/O11 -> -0.12386744 | U11: =(Q11-P11)/P11 -> -0.11799366 | V11: =(S11-P11)/P11 -> -0.30497323 | W11: =L11*1.0394 -> 12.669686 | X11: =(R11-P11)/P11 -> -0.12367539 | Y11: =(R11-Q11)/Q11 -> -0.0064418184 | Z11: =(M11-G11)/G11 -> -0.0064418184 | AA11: =(W11-P11)/P11 -> -0.098884319 | AB11: =(W11-R11)/R11 -> 0.028289824 | AC11: =R11 -> 12.321124 | AD11: =ROUND(AC11*1.0513,2) -> 12.95
A12: 07A16 | B12: Begeleiding Groep | C12: Duurzaam Intensief | D12: Wmo | E12: 16.34 | F12: 15.31941 | G12: 15.31941 | H12: 14.334459 | J12: 14.824403 | K12: 17.332125 | L12: 15.293455 | M12: 15.293455 | N12: Geen aanpassing | O12: =E12*1.0394 -> 16.983796 | P12: 16.98 | Q12: =G12*1.0394 -> 15.922994 | R12: =M12*1.0394 -> 15.896017 | S12: =H12*1.0394 -> 14.899236 | T12: =(R12-O12)/O12 -> -0.064048053 | U12: =(Q12-P12)/P12 -> -0.062250043 | V12: =(S12-P12)/P12 -> -0.12254202 | W12: =L12*1.0394 -> 15.896017 | X12: =(R12-P12)/P12 -> -0.063838814 | Y12: =(R12-Q12)/Q12 -> -0.0016942378 | Z12: =(M12-G12)/G12 -> -0.0016942378 | AA12: =(W12-P12)/P12 -> -0.063838814 | AB12: =(W12-R12)/R12 -> 0 | AC12: =R12 -> 15.896017 | AD12: =ROUND(AC12*1.0513,2) -> 16.71
A13: 04W01 | B13: Respijtzorg | C13: Thuis | D13: Wmo | E13: 197.79 | F13: 262.10003 | G13: 262.10003 | M13: 262.10003 | O13: =E13*1.0394 -> 205.58293 | P13: 272.43 | Q13: =G13*1.0394 -> 272.42677 | R13: =Q13 -> 272.42677 | T13: =(R13-O13)/O13 -> 0.32514299 | U13: =(Q13-P13)/P13 -> -1.1846095e-05 | W13: =R13 -> 272.42677 | X13: =(R13-P13)/P13 -> -1.1846095e-05 | Y13: =(R13-Q13)/Q13 -> 0 | AA13: =(W13-P13)/P13 -> -1.1846095e-05 | AB13: =(W13-R13)/R13 -> 0 | AC13: =R13 -> 272.42677 | AD13: =ROUND(AC13*1.0513,2) -> 286.4
A14: 04W02 | B14: Respijtzorg | C14: Basis | D14: Wmo | E14: 151.68 | F14: 178.13171 | G14: 178.13171 | M14: 178.13171 | O14: =E14*1.0394 -> 157.65619 | P14: 185.15 | Q14: =G14*1.0394 -> 185.1501 | R14: =Q14 -> 185.1501 | T14: =(R14-O14)/O14 -> 0.17439157 | U14: =(Q14-P14)/P14 -> 5.5433928e-07 | W14: =R14 -> 185.1501 | X14: =(R14-P14)/P14 -> 5.5433928e-07 | Y14: =(R14-Q14)/Q14 -> 0 | AA14: =(W14-P14)/P14 -> 5.5433928e-07 | AB14: =(W14-R14)/R14 -> 0 | AC14: =R14 -> 185.1501 | AD14: =ROUND(AC14*1.0513,2) -> 194.65
A15: 04W03 | B15: Respijtzorg | C15: Hoog | D15: Wmo | E15: 205.31 | F15: 237.26875 | G15: 237.26875 | M15: 237.26875 | O15: =E15*1.0394 -> 213.39921 | P15: 246.62 | Q15: =G15*1.0394 -> 246.61713 | R15: =Q15 -> 246.61713 | T15: =(R15-O15)/O15 -> 0.15566093 | U15: =(Q15-P15)/P15 -> -1.1619445e-05 | W15: =R15 -> 246.61713 | X15: =(R15-P15)/P15 -> -1.1619445e-05 | Y15: =(R15-Q15)/Q15 -> 0 | AA15: =(W15-P15)/P15 -> -1.1619445e-05 | AB15: =(W15-R15)/R15 -> 0 | AC15: =R15 -> 246.61713 | AD15: =ROUND(AC15*1.0513,2) -> 259.27
A16: 08A03 | B16: Vervoer | C16: Vervoer | D16: Wmo | E16: 18.42 | F16: 18.44 | G16: 18.44 | M16: 18.44 | O16: =E16*1.0394 -> 19.145748 | P16: 19.17 | Q16: =G16*1.0394 -> 19.166536 | R16: =Q16 -> 19.166536 | T16: =(R16-O16)/O16 -> 0.0010857763 | U16: =(Q16-P16)/P16 -> -0.00018069901 | W16: =R16 -> 19.166536 | X16: =(R16-P16)/P16 -> -0.00018069901 | Y16: =(R16-Q16)/Q16 -> 0 | AA16: =(W16-P16)/P16 -> -0.00018069901 | AB16: =(W16-R16)/R16 -> 0 | AC16: =R16 -> 19.166536 | AD16: =ROUND(AC16*1.0513,2) -> 20.15
A17: 08A04 | B17: Vervoer Plus | C17: Vervoer Plus | D17: Wmo | E17: 30.71 | F17: 34.74 | G17: 34.74 | M17: 35.65 | O17: =E17*1.0394 -> 31.919974 | P17: 36.11 | Q17: =G17*1.0394 -> 36.108756 | R17: =Q17 -> 36.108756 | T17: =(R17-O17)/O17 -> 0.13122761 | U17: =(Q17-P17)/P17 -> -3.4450291e-05 | W17: =R17 -> 36.108756 | X17: =(R17-P17)/P17 -> -3.4450291e-05 | Y17: =(R17-Q17)/Q17 -> 0 | AA17: =(W17-P17)/P17 -> -3.4450291e-05 | AB17: =(W17-R17)/R17 -> 0 | AC17: =35.65*1.0394 -> 37.05461 | AD17: =ROUND(AC17*1.0513,2) -> 38.96
A18: 02A63 | B18: Werkt Mee | C18: Werkt Mee op trede 3 | D18: Wmo | E18: 10.63 | F18: 10.092 | G18: 10.092 | M18: 10.092 | O18: =E18*1.0394 -> 11.048822 | P18: 11.05 | Q18: =G18*1.0394 -> 10.489625 | R18: =Q18 -> 10.489625 | T18: =(R18-O18)/O18 -> -0.050611499 | U18: =(Q18-P18)/P18 -> -0.05071271 | W18: =R18 -> 10.489625 | X18: =(R18-P18)/P18 -> -0.05071271 | Y18: =(R18-Q18)/Q18 -> 0 | AA18: =(W18-P18)/P18 -> -0.05071271 | AB18: =(W18-R18)/R18 -> 0 | AC18: =R18 -> 10.489625 | AD18: =ROUND(AC18*1.0513,2) -> 11.03
A19: 02A64 | B19: Werkt Mee | C19: Werkt Mee op trede 4 | D19: Wmo | E19: 7.86 | F19: 7.6199999 | G19: 7.6199999 | M19: 7.6199999 | O19: =E19*1.0394 -> 8.169684 | P19: 8.17 | Q19: =G19*1.0394 -> 7.9202278 | R19: =Q19 -> 7.9202278 | T19: =(R19-O19)/O19 -> -0.03053437 | U19: =(Q19-P19)/P19 -> -0.030571867 | W19: =R19 -> 7.9202278 | X19: =(R19-P19)/P19 -> -0.030571867 | Y19: =(R19-Q19)/Q19 -> 0 | AA19: =(W19-P19)/P19 -> -0.030571867 | AB19: =(W19-R19)/R19 -> 0 | AC19: =R19 -> 7.9202278 | AD19: =ROUND(AC19*1.0513,2) -> 8.33
A20: 02A56 | B20: Werkt Mee | C20: Werkt Mee ontwikkeling naar trede 3 | D20: Wmo | E20: 319.04 | F20: 341.44389 | G20: 341.44389 | M20: 341.44389 | O20: =E20*1.0394 -> 331.61018 | P20: 354.9 | Q20: =G20*1.0394 -> 354.89678 | R20: =Q20 -> 354.89678 | T20: =(R20-O20)/O20 -> 0.070222831 | U20: =(Q20-P20)/P20 -> -9.069571e-06 | W20: =R20 -> 354.89678 | X20: =(R20-P20)/P20 -> -9.069571e-06 | Y20: =(R20-Q20)/Q20 -> 0 | AA20: =(W20-P20)/P20 -> -9.069571e-06 | AB20: =(W20-R20)/R20 -> 0 | AC20: =R20 -> 354.89678 | AD20: =ROUND(AC20*1.0513,2) -> 373.1
A21: 02A57 | B21: Werkt Mee | C21: Werkt Mee ontwikkeling naar trede 4 | D21: Wmo | E21: 319.04 | F21: 341.44389 | G21: 341.44389 | M21: 341.44389 | O21: =E21*1.0394 -> 331.61018 | P21: 354.9 | Q21: =G21*1.0394 -> 354.89678 | R21: =Q21 -> 354.89678 | T21: =(R21-O21)/O21 -> 0.070222831 | U21: =(Q21-P21)/P21 -> -9.069571e-06 | W21: =R21 -> 354.89678 | X21: =(R21-P21)/P21 -> -9.069571e-06 | Y21: =(R21-Q21)/Q21 -> 0 | AA21: =(W21-P21)/P21 -> -9.069571e-06 | AB21: =(W21-R21)/R21 -> 0 | AC21: =R21 -> 354.89678 | AD21: =ROUND(AC21*1.0513,2) -> 373.1
A22: 02A58 | B22: Werkt Mee | C22: Werkt Mee ontwikkeling naar trede 5 | D22: Wmo | E22: 319.04 | F22: 341.44389 | G22: 341.44389 | M22: 341.44389 | O22: =E22*1.0394 -> 331.61018 | P22: 354.9 | Q22: =G22*1.0394 -> 354.89678 | R22: =Q22 -> 354.89678 | T22: =(R22-O22)/O22 -> 0.070222831 | U22: =(Q22-P22)/P22 -> -9.069571e-06 | W22: =R22 -> 354.89678 | X22: =(R22-P22)/P22 -> -9.069571e-06 | Y22: =(R22-Q22)/Q22 -> 0 | AA22: =(W22-P22)/P22 -> -9.069571e-06 | AB22: =(W22-R22)/R22 -> 0 | AC22: =R22 -> 354.89678 | AD22: =ROUND(AC22*1.0513,2) -> 373.1
A23: 02A76 | B23: Zorgcoördinatie | C23: Zorgcoördinatie | D23: Wmo | E23: 86.95 | F23: 86.95 | G23: 86.95 | M23: 86.95 | O23: =E23*1.0394 -> 90.37583 | P23: 90.38 | Q23: =G23*1.0394 -> 90.37583 | R23: =Q23 -> 90.37583 | T23: =(R23-O23)/O23 -> 0 | U23: =(Q23-P23)/P23 -> -4.6138526e-05 | W23: =R23 -> 90.37583 | X23: =(R23-P23)/P23 -> -4.6138526e-05 | Y23: =(R23-Q23)/Q23 -> 0 | AA23: =(W23-P23)/P23 -> -4.6138526e-05 | AB23: =(W23-R23)/R23 -> 0 | AC23: =R23 -> 90.37583 | AD23: =ROUND(AC23*1.0513,2) -> 95.01
A24: 15G01 | B24: Beschermd Wonen | C24: Begeleiding Groep Licht | D24: BW | E24: 10.63 | F24: 10.106589 | G24: 10.106589 | H24: 9.0054912 | J24: 9.5679288 | K24: 10.49645 | L24: 9.817341 | M24: 9.7085791 | N24: Lager aandeel MBO3; hoger aandeel MBO4 opnemen 40% MBO3, 30% MBO4, 30% HBO | O24: =E24*1.0394 -> 11.048822 | P24: 11.05 | Q24: =G24*1.0394 -> 10.504789 | R24: =M24*1.0394 -> 10.091097 | T24: =(R24-O24)/O24 -> -0.086681176 | U24: =(Q24-P24)/P24 -> -0.049340356 | W24: =L24*1.0394 -> 10.204144 | X24: =(R24-P24)/P24 -> -0.086778541 | Y24: =(R24-Q24)/Q24 -> -0.039381272 | Z24: =(M24-G24)/G24 -> -0.039381272 | AA24: =(W24-P24)/P24 -> -0.076548033 | AB24: =(W24-R24)/R24 -> 0.011202658 | AC24: =R24 -> 10.091097 | AD24: =ROUND(AC24*1.0513,2) -> 10.61
A25: 15G02 | B25: Beschermd Wonen | C25: Begeleiding Groep Basis | D25: BW | E25: 14.14 | F25: 13.721296 | G25: 13.721296 | H25: 12.340865 | J25: 12.397745 | K25: 12.946337 | L25: 12.680147 | M25: 12.680147 | N25: Lager aandeel HBO; hoger aandeel MBO4 opnemen 25% MBO3, 25% MBO4, 50% HBO | O25: =E25*1.0394 -> 14.697116 | P25: 14.7 | Q25: =G25*1.0394 -> 14.261915 | R25: =M25*1.0394 -> 13.179745 | T25: =(R25-O25)/O25 -> -0.10324279 | U25: =(Q25-P25)/P25 -> -0.029801716 | W25: =L25*1.0394 -> 13.179745 | X25: =(R25-P25)/P25 -> -0.10341872 | Y25: =(R25-Q25)/Q25 -> -0.07587831 | Z25: =(M25-G25)/G25 -> -0.07587831 | AA25: =(W25-P25)/P25 -> -0.10341872 | AB25: =(W25-R25)/R25 -> 0 | AC25: =R25 -> 13.179745 | AD25: =ROUND(AC25*1.0513,2) -> 13.86
A26: 15G03 | B26: Beschermd Wonen | C26: Begeleiding Groep Complex | D26: BW | E26: 21.38 | F26: 21.246303 | G26: 21.246303 | H26: 19.471672 | J26: 17.340937 | K26: 20.40593 | L26: 19.871542 | M26: 20.165824 | N26: Lager aandeel HBO opnemen Geen aanpassing | O26: =E26*1.0394 -> 22.222372 | P26: 22.22 | Q26: =G26*1.0394 -> 22.083407 | R26: =M26*1.0394 -> 20.960358 | T26: =(R26-O26)/O26 -> -0.056790264 | U26: =(Q26-P26)/P26 -> -0.0061472995 | W26: =L26*1.0394 -> 20.65448 | X26: =(R26-P26)/P26 -> -0.056689576 | Y26: =(R26-Q26)/Q26 -> -0.050854897 | Z26: =(M26-G26)/G26 -> -0.050854897 | AA26: =(W26-P26)/P26 -> -0.070455428 | AB26: =(W26-R26)/R26 -> -0.01459313 | AC26: =R26 -> 20.960358 | AD26: =ROUND(AC26*1.0513,2) -> 22.04
A27: 15A63 | B27: Beschermd Wonen | C27: Werkt mee op trede 3 | D27: BW | E27: 10.63 | F27: 10.092 | G27: 10.092 | M27: 10.092 | O27: =E27*1.0394 -> 11.048822 | P27: 11.05 | Q27: =G27*1.0394 -> 10.489625 | R27: =Q27 -> 10.489625 | T27: =(R27-O27)/O27 -> -0.050611499 | U27: =(Q27-P27)/P27 -> -0.05071271 | W27: =R27 -> 10.489625 | X27: =(R27-P27)/P27 -> -0.05071271 | Y27: =(R27-Q27)/Q27 -> 0 | AA27: =(W27-P27)/P27 -> -0.05071271 | AB27: =(W27-R27)/R27 -> 0 | AC27: =R27 -> 10.489625 | AD27: =ROUND(AC27*1.0513,2) -> 11.03
A28: 15A64 | B28: Beschermd Wonen | C28: Werkt mee op trede 4 | D28: BW | E28: 7.86 | F28: 7.6199999 | G28: 7.6199999 | M28: 7.6199999 | O28: =E28*1.0394 -> 8.169684 | P28: 8.17 | Q28: =G28*1.0394 -> 7.9202278 | R28: =Q28 -> 7.9202278 | T28: =(R28-O28)/O28 -> -0.03053437 | U28: =(Q28-P28)/P28 -> -0.030571867 | W28: =R28 -> 7.9202278 | X28: =(R28-P28)/P28 -> -0.030571867 | Y28: =(R28-Q28)/Q28 -> 0 | AA28: =(W28-P28)/P28 -> -0.030571867 | AB28: =(W28-R28)/R28 -> 0 | AC28: =R28 -> 7.9202278 | AD28: =ROUND(AC28*1.0513,2) -> 8.33
A29: 15A56 | B29: Beschermd Wonen | C29: Werkt mee ontwikkeling naar trede 3 | D29: BW | E29: 319.04 | F29: 341.44389 | G29: 341.44389 | M29: 341.44389 | O29: =E29*1.0394 -> 331.61018 | P29: 354.9 | Q29: =G29*1.0394 -> 354.89678 | R29: =Q29 -> 354.89678 | T29: =(R29-O29)/O29 -> 0.070222831 | U29: =(Q29-P29)/P29 -> -9.069571e-06 | W29: =R29 -> 354.89678 | X29: =(R29-P29)/P29 -> -9.069571e-06 | Y29: =(R29-Q29)/Q29 -> 0 | AA29: =(W29-P29)/P29 -> -9.069571e-06 | AB29: =(W29-R29)/R29 -> 0 | AC29: =R29 -> 354.89678 | AD29: =ROUND(AC29*1.0513,2) -> 373.1
A30: 15A57 | B30: Beschermd Wonen | C30: Werkt mee ontwikkeling naar trede 4 | D30: BW | E30: 319.04 | F30: 341.44389 | G30: 341.44389 | M30: 341.44389 | O30: =E30*1.0394 -> 331.61018 | P30: 354.9 | Q30: =G30*1.0394 -> 354.89678 | R30: =Q30 -> 354.89678 | T30: =(R30-O30)/O30 -> 0.070222831 | U30: =(Q30-P30)/P30 -> -9.069571e-06 | W30: =R30 -> 354.89678 | X30: =(R30-P30)/P30 -> -9.069571e-06 | Y30: =(R30-Q30)/Q30 -> 0 | AA30: =(W30-P30)/P30 -> -9.069571e-06 | AB30: =(W30-R30)/R30 -> 0 | AC30: =R30 -> 354.89678 | AD30: =ROUND(AC30*1.0513,2) -> 373.1
A31: 15A58 | B31: Beschermd Wonen | C31: Werkt mee ontwikkeling naar trede 5 | D31: BW | E31: 319.04 | F31: 341.44389 | G31: 341.44389 | M31: 341.44389 | O31: =E31*1.0394 -> 331.61018 | P31: 354.9 | Q31: =G31*1.0394 -> 354.89678 | R31: =Q31 -> 354.89678 | T31: =(R31-O31)/O31 -> 0.070222831 | U31: =(Q31-P31)/P31 -> -9.069571e-06 | W31: =R31 -> 354.89678 | X31: =(R31-P31)/P31 -> -9.069571e-06 | Y31: =(R31-Q31)/Q31 -> 0 | AA31: =(W31-P31)/P31 -> -9.069571e-06 | AB31: =(W31-R31)/R31 -> 0 | AC31: =R31 -> 354.89678 | AD31: =ROUND(AC31*1.0513,2) -> 373.1
A32: 02J63 | B32: Werkt Mee | C32: Werkt mee op trede 3 | D32: BW | E32: 10.63 | F32: 10.092 | G32: 10.092 | M32: 10.092 | O32: =E32*1.0394 -> 11.048822 | P32: 11.05 | Q32: =G32*1.0394 -> 10.489625 | R32: =Q32 -> 10.489625 | T32: =(R32-O32)/O32 -> -0.050611499 | U32: =(Q32-P32)/P32 -> -0.05071271 | W32: =R32 -> 10.489625 | X32: =(R32-P32)/P32 -> -0.05071271 | Y32: =(R32-Q32)/Q32 -> 0 | AA32: =(W32-P32)/P32 -> -0.05071271 | AB32: =(W32-R32)/R32 -> 0 | AC32: =R32 -> 10.489625 | AD32: =ROUND(AC32*1.0513,2) -> 11.03
A33: 02J64 | B33: Werkt Mee | C33: Werkt mee op trede 4 | D33: BW | E33: 7.86 | F33: 7.6199999 | G33: 7.6199999 | M33: 7.6199999 | O33: =E33*1.0394 -> 8.169684 | P33: 8.17 | Q33: =G33*1.0394 -> 7.9202278 | R33: =Q33 -> 7.9202278 | T33: =(R33-O33)/O33 -> -0.03053437 | U33: =(Q33-P33)/P33 -> -0.030571867 | W33: =R33 -> 7.9202278 | X33: =(R33-P33)/P33 -> -0.030571867 | Y33: =(R33-Q33)/Q33 -> 0 | AA33: =(W33-P33)/P33 -> -0.030571867 | AB33: =(W33-R33)/R33 -> 0 | AC33: =R33 -> 7.9202278 | AD33: =ROUND(AC33*1.0513,2) -> 8.33
A34: 02J56 | B34: Werkt Mee | C34: Werkt mee ontwikkeling naar trede 3 | D34: BW | E34: 319.04 | F34: 341.44389 | G34: 341.44389 | M34: 341.44389 | O34: =E34*1.0394 -> 331.61018 | P34: 354.9 | Q34: =G34*1.0394 -> 354.89678 | R34: =Q34 -> 354.89678 | T34: =(R34-O34)/O34 -> 0.070222831 | U34: =(Q34-P34)/P34 -> -9.069571e-06 | W34: =R34 -> 354.89678 | X34: =(R34-P34)/P34 -> -9.069571e-06 | Y34: =(R34-Q34)/Q34 -> 0 | AA34: =(W34-P34)/P34 -> -9.069571e-06 | AB34: =(W34-R34)/R34 -> 0 | AC34: =R34 -> 354.89678 | AD34: =ROUND(AC34*1.0513,2) -> 373.1
A35: 02J57 | B35: Werkt Mee | C35: Werkt mee ontwikkeling naar trede 4 | D35: BW | E35: 319.04 | F35: 341.44389 | G35: 341.44389 | M35: 341.44389 | O35: =E35*1.0394 -> 331.61018 | P35: 354.9 | Q35: =G35*1.0394 -> 354.89678 | R35: =Q35 -> 354.89678 | T35: =(R35-O35)/O35 -> 0.070222831 | U35: =(Q35-P35)/P35 -> -9.069571e-06 | W35: =R35 -> 354.89678 | X35: =(R35-P35)/P35 -> -9.069571e-06 | Y35: =(R35-Q35)/Q35 -> 0 | AA35: =(W35-P35)/P35 -> -9.069571e-06 | AB35: =(W35-R35)/R35 -> 0 | AC35: =R35 -> 354.89678 | AD35: =ROUND(AC35*1.0513,2) -> 373.1
A36: 02J58 | B36: Werkt Mee | C36: Werkt mee ontwikkeling naar trede 5 | D36: BW | E36: 319.04 | F36: 341.44389 | G36: 341.44389 | M36: 341.44389 | O36: =E36*1.0394 -> 331.61018 | P36: 354.9 | Q36: =G36*1.0394 -> 354.89678 | R36: =Q36 -> 354.89678 | T36: =(R36-O36)/O36 -> 0.070222831 | U36: =(Q36-P36)/P36 -> -9.069571e-06 | W36: =R36 -> 354.89678 | X36: =(R36-P36)/P36 -> -9.069571e-06 | Y36: =(R36-Q36)/Q36 -> 0 | AA36: =(W36-P36)/P36 -> -9.069571e-06 | AB36: =(W36-R36)/R36 -> 0 | AC36: =R36 -> 354.89678 | AD36: =ROUND(AC36*1.0513,2) -> 373.1
